BEGIN:VCALENDAR
VERSION:2.0
PRODID:-//ChamberMaster//Event Calendar 2.0//EN
METHOD:PUBLISH
X-PUBLISHED-TTL:P3D
REFRESH-INTERVAL:P3D
CALSCALE:GREGORIAN
BEGIN:VEVENT
DTSTART:20250110T173000Z
DTEND:20250110T190000Z
X-MICROSOFT-CDO-ALLDAYEVENT:FALSE
SUMMARY:Exec Committee
DESCRIPTION:
X-ALT-DESC;FMTTYPE=text/html:
LOCATION:HBA Office 6751 Corporate Dr Johnston\, IA 50131
UID:e.9614.28980
SEQUENCE:3
DTSTAMP:20260422T055615Z
URL:https://members.dsmhba.com/events/details/exec-committee-28980
END:VEVENT

END:VCALENDAR
